BEGIN:VCALENDAR
VERSION:2.0
PRODID:-//Sustainable Solano - ECPv6.15.20//NONSGML v1.0//EN
CALSCALE:GREGORIAN
METHOD:PUBLISH
X-ORIGINAL-URL:https://sustainablesolano.org
X-WR-CALDESC:Events for Sustainable Solano
REFRESH-INTERVAL;VALUE=DURATION:PT1H
X-Robots-Tag:noindex
X-PUBLISHED-TTL:PT1H
BEGIN:VTIMEZONE
TZID:America/Los_Angeles
BEGIN:DAYLIGHT
TZOFFSETFROM:-0800
TZOFFSETTO:-0700
TZNAME:PDT
DTSTART:20250309T100000
END:DAYLIGHT
BEGIN:STANDARD
TZOFFSETFROM:-0700
TZOFFSETTO:-0800
TZNAME:PST
DTSTART:20251102T090000
END:STANDARD
BEGIN:DAYLIGHT
TZOFFSETFROM:-0800
TZOFFSETTO:-0700
TZNAME:PDT
DTSTART:20260308T100000
END:DAYLIGHT
BEGIN:STANDARD
TZOFFSETFROM:-0700
TZOFFSETTO:-0800
TZNAME:PST
DTSTART:20261101T090000
END:STANDARD
BEGIN:DAYLIGHT
TZOFFSETFROM:-0800
TZOFFSETTO:-0700
TZNAME:PDT
DTSTART:20270314T100000
END:DAYLIGHT
BEGIN:STANDARD
TZOFFSETFROM:-0700
TZOFFSETTO:-0800
TZNAME:PST
DTSTART:20271107T090000
END:STANDARD
END:VTIMEZONE
BEGIN:VEVENT
DTSTART;TZID=America/Los_Angeles:20260122T183000
DTEND;TZID=America/Los_Angeles:20260122T193000
DTSTAMP:20260422T132518
CREATED:20251120T202016Z
LAST-MODIFIED:20251211T212702Z
UID:32438-1769106600-1769110200@sustainablesolano.org
SUMMARY:(Online) Solano Bayshore Resiliency Community Meeting
DESCRIPTION:Let’s plan for sea level rise together! \nWhat does a more resilient Suisun City\, Benicia\, Fairfield and Vallejo look like to you? Join us for our first countywide Solano Bayshore Resiliency Community Meeting to share your vision\, concerns and ideas for protecting the shoreline. \nThis is part of the Bayshore Resiliency Project. Learn more here: https://www.bayshoreresiliency.org/ \n  \nMeeting Details \nDate: January 22\nTime: 6:30–7:30 PM\nFormat: Online via Microsoft Teams\nGeneral Teams Link: https://events.teams.microsoft.com/event/2ad2c700-4080-4c3e-9783-a11ec9113ec7@2bdbbc35-0608-44cd-ad9a-e2e74675e07f
URL:https://sustainablesolano.org/event/online-solano-bayshore-resiliency-community-meeting/
LOCATION:Online
CATEGORIES:flood,online,resilience
END:VEVENT
END:VCALENDAR