BEGIN:VCALENDAR
VERSION:2.0
PRODID:-//Sustainable Solano - ECPv6.15.20//NONSGML v1.0//EN
CALSCALE:GREGORIAN
METHOD:PUBLISH
X-WR-CALNAME:Sustainable Solano
X-ORIGINAL-URL:https://sustainablesolano.org
X-WR-CALDESC:Events for Sustainable Solano
REFRESH-INTERVAL;VALUE=DURATION:PT1H
X-Robots-Tag:noindex
X-PUBLISHED-TTL:PT1H
BEGIN:VTIMEZONE
TZID:America/Los_Angeles
BEGIN:DAYLIGHT
TZOFFSETFROM:-0800
TZOFFSETTO:-0700
TZNAME:PDT
DTSTART:20210314T100000
END:DAYLIGHT
BEGIN:STANDARD
TZOFFSETFROM:-0700
TZOFFSETTO:-0800
TZNAME:PST
DTSTART:20211107T090000
END:STANDARD
BEGIN:DAYLIGHT
TZOFFSETFROM:-0800
TZOFFSETTO:-0700
TZNAME:PDT
DTSTART:20220313T100000
END:DAYLIGHT
BEGIN:STANDARD
TZOFFSETFROM:-0700
TZOFFSETTO:-0800
TZNAME:PST
DTSTART:20221106T090000
END:STANDARD
BEGIN:DAYLIGHT
TZOFFSETFROM:-0800
TZOFFSETTO:-0700
TZNAME:PDT
DTSTART:20230312T100000
END:DAYLIGHT
BEGIN:STANDARD
TZOFFSETFROM:-0700
TZOFFSETTO:-0800
TZNAME:PST
DTSTART:20231105T090000
END:STANDARD
BEGIN:DAYLIGHT
TZOFFSETFROM:-0800
TZOFFSETTO:-0700
TZNAME:PDT
DTSTART:20240310T100000
END:DAYLIGHT
BEGIN:STANDARD
TZOFFSETFROM:-0700
TZOFFSETTO:-0800
TZNAME:PST
DTSTART:20241103T090000
END:STANDARD
BEGIN:DAYLIGHT
TZOFFSETFROM:-0800
TZOFFSETTO:-0700
TZNAME:PDT
DTSTART:20250309T100000
END:DAYLIGHT
BEGIN:STANDARD
TZOFFSETFROM:-0700
TZOFFSETTO:-0800
TZNAME:PST
DTSTART:20251102T090000
END:STANDARD
END:VTIMEZONE
BEGIN:VEVENT
DTSTART;TZID=America/Los_Angeles:20240619T180000
DTEND;TZID=America/Los_Angeles:20240619T190000
DTSTAMP:20260422T091110
CREATED:20240530T193021Z
LAST-MODIFIED:20240530T193022Z
UID:31054-1718820000-1718823600@sustainablesolano.org
SUMMARY:(Online) Food Rescue: The Law\, Why\, and What's Happening in Solano County
DESCRIPTION:Food Rescue: The Law\, Why\, and What’s Happening in Solano County\n6- 7 pm\, Register for Zoom link \nJoin us virtually to learn about SB 1383\, a law requiring residents and businesses to put food in their green waste bin. The law also addresses food insecurity and requires that edible food go to people in need\, not in the trash. Special guests Heather Pierini of Food is Free Bay Area and Karen Collins\, Food Resource Manager at the Food Bank of Contra Costa & Solano\, will provide updates on how edible food is being rescued in Solano County. We’ll also discuss “Best by” dates\, expiration dates and what this bill means for restaurants\, grocery stores\, and you at home. Click here to learn more and register.
URL:https://sustainablesolano.org/event/online-food-rescue-the-law-why-and-whats-happening-in-solano-county/
LOCATION:Online/Zoom
CATEGORIES:compost,food rescue,local food,online,resilience,soil
ATTACH;FMTTYPE=image/jpeg:https://sustainablesolano.org/wp-content/uploads/2020/11/WilkinsonCSA.jpeg
END:VEVENT
BEGIN:VEVENT
DTSTART;TZID=America/Los_Angeles:20230511T190000
DTEND;TZID=America/Los_Angeles:20230511T200000
DTSTAMP:20260422T091110
CREATED:20230501T212404Z
LAST-MODIFIED:20230501T212404Z
UID:29461-1683831600-1683835200@sustainablesolano.org
SUMMARY:(Benicia) Zero-Waste Cooking Class
DESCRIPTION:Find Chef Steph at the Benicia Public Library at 7 pm Thursday\, May 11\, for a class on zero-waste cooking. \nThe cooking demonstration is part of the library’s Book to Action Sustainability Challenge.
URL:https://sustainablesolano.org/event/benicia-zero-waste-cooking-class/
LOCATION:Benicia Library
CATEGORIES:cooking,food rescue,partner event
ATTACH;FMTTYPE=image/jpeg:https://sustainablesolano.org/wp-content/uploads/2022/04/IMG_6914.jpg
END:VEVENT
BEGIN:VEVENT
DTSTART;TZID=America/Los_Angeles:20230126T140000
DTEND;TZID=America/Los_Angeles:20230126T150000
DTSTAMP:20260422T091110
CREATED:20221202T204946Z
LAST-MODIFIED:20230116T184445Z
UID:28485-1674741600-1674745200@sustainablesolano.org
SUMMARY:(Vallejo) Faith Food Fridays Garden Ceremony
DESCRIPTION:Thursday\, January 26 \nFaith Food Fridays Garden Ceremony\n2 pm\, Faith Food Fridays\, Vallejo \nThere will be a ribbon-cutting ceremony\, plant giveaway and container gardening class as part of recognizing Faith Food Fridays’ new Learning Community Garden established in partnership with SuSol’s Solano Gardens program. The garden will support Faith Food Fridays’ mission to provide emergency food to families by sharing the knowledge and skills for families to grow food for themselves. \nLearn more here
URL:https://sustainablesolano.org/event/faith-food-fridays-garden-ceremony/
LOCATION:Faith Food Fridays
CATEGORIES:food rescue,local food
END:VEVENT
BEGIN:VEVENT
DTSTART;TZID=America/Los_Angeles:20220630T170000
DTEND;TZID=America/Los_Angeles:20220630T180000
DTSTAMP:20260422T091110
CREATED:20220606T182705Z
LAST-MODIFIED:20220607T013546Z
UID:27585-1656608400-1656612000@sustainablesolano.org
SUMMARY:(Benicia) Waste Not\, Want Not Cooking Class
DESCRIPTION:Waste Not\, Want Not Cooking Class\n5 pm\, Avant Garden\, 400 First St.\, Benicia \nRegister here \nYou know that feeling when your vegetable garden hits the height of production? So much so\, that you start passing out zucchinis to strangers walking by your house? Has your family said “enough” to tomatoes every night? Too much of a good thing can happen when your have a garden bumper crop. Join Chef Lisa Núñez-Hancock in-person at Avant Garden as she walks you through ideas and recipes to optimize your garden bounty\, and not waste a single precious veggie.
URL:https://sustainablesolano.org/event/benicia-waste-not-want-not-cooking-class/
LOCATION:Avant Community Garden\, Benicia
CATEGORIES:cooking,food rescue
ATTACH;FMTTYPE=image/jpeg:https://sustainablesolano.org/wp-content/uploads/2020/05/2390714138514442143.jpg
END:VEVENT
BEGIN:VEVENT
DTSTART;TZID=America/Los_Angeles:20220629T170000
DTEND;TZID=America/Los_Angeles:20220629T180000
DTSTAMP:20260422T091110
CREATED:20220510T163743Z
LAST-MODIFIED:20220510T163743Z
UID:27399-1656522000-1656525600@sustainablesolano.org
SUMMARY:(Online) Vallejo Food Rescue Project Conversation
DESCRIPTION:Vallejo Food Rescue Project Conversation\n5 pm\, Register for Zoom link \nRegister here: https://www.eventbrite.com/e/vallejo-food-rescue-project-conversation-tickets-334726314417 \nDid you ever wonder what happens to expired food from the grocery store? Or where you could send extra produce from your garden or fruit trees? It’s important to keep food waste out of the landfill because it creates methane gas that heats the atmosphere\, but what are the options? Join Republic Services\, Sustainable Solano\, Food Is Free Solano and other partners in this virtual conversation to learn about new efforts that divert food from the landfill and channel it to people in need. The Vallejo Food Rescue Project is a pilot program where community partners collaborate to keep food within their own communities\, through a hyper-local food distribution system. Find out how you can be involved in this important program\, and also learn more about the rollout of SB1383\, which requires better management of our food waste.
URL:https://sustainablesolano.org/event/online-vallejo-food-rescue-project-conversation/
LOCATION:Online/Zoom
CATEGORIES:food rescue,local food,online
ATTACH;FMTTYPE=image/jpeg:https://sustainablesolano.org/wp-content/uploads/2022/04/lenka-dzurendova-FTCQPjPfFS4-unsplash-1.jpg
END:VEVENT
END:VCALENDAR