BEGIN:VCALENDAR
VERSION:2.0
PRODID:-//Sustainable Solano - ECPv6.15.20//NONSGML v1.0//EN
CALSCALE:GREGORIAN
METHOD:PUBLISH
X-ORIGINAL-URL:https://sustainablesolano.org
X-WR-CALDESC:Events for Sustainable Solano
REFRESH-INTERVAL;VALUE=DURATION:PT1H
X-Robots-Tag:noindex
X-PUBLISHED-TTL:PT1H
BEGIN:VTIMEZONE
TZID:America/Los_Angeles
BEGIN:DAYLIGHT
TZOFFSETFROM:-0800
TZOFFSETTO:-0700
TZNAME:PDT
DTSTART:20240310T100000
END:DAYLIGHT
BEGIN:STANDARD
TZOFFSETFROM:-0700
TZOFFSETTO:-0800
TZNAME:PST
DTSTART:20241103T090000
END:STANDARD
BEGIN:DAYLIGHT
TZOFFSETFROM:-0800
TZOFFSETTO:-0700
TZNAME:PDT
DTSTART:20250309T100000
END:DAYLIGHT
BEGIN:STANDARD
TZOFFSETFROM:-0700
TZOFFSETTO:-0800
TZNAME:PST
DTSTART:20251102T090000
END:STANDARD
BEGIN:DAYLIGHT
TZOFFSETFROM:-0800
TZOFFSETTO:-0700
TZNAME:PDT
DTSTART:20260308T100000
END:DAYLIGHT
BEGIN:STANDARD
TZOFFSETFROM:-0700
TZOFFSETTO:-0800
TZNAME:PST
DTSTART:20261101T090000
END:STANDARD
END:VTIMEZONE
BEGIN:VEVENT
DTSTART;TZID=America/Los_Angeles:20251001T000000
DTEND;TZID=America/Los_Angeles:20251001T235900
DTSTAMP:20260422T151306
CREATED:20250910T004034Z
LAST-MODIFIED:20250910T004114Z
UID:32254-1759276800-1759363140@sustainablesolano.org
SUMMARY:(Online) Live Solano Give Solano Day of Giving
DESCRIPTION:We know what a giving place Solano County can be. At every event\, we watch community members come together\, support one another and create change. Whether it’s moving and spreading mulch to build a new community garden\, sitting down to a shared meal after a hands-on cooking class or brainstorming ways to make our neighborhoods more walkable or flood resilient\, Solano residents are always quick to lend a hand and share their time. \nWe know that our SuSol community also opens your wallets to support our work\, whether giving a donation for a class you attend\, buying a ticket to our fundraiser\, or remembering us in your end-of-year giving (or qualified distribution in the new year). Another way you help to raise funds is through word-of-mouth. You tell others about the work we do\, and they come out to events and sometimes drop a dollar into the donation box. Now\, we have another giving opportunity we hope you will share with your networks! \nOn Oct. 1\, SuSol is joining more than 150 Solano-based nonprofits for Live Solano\, Give Solano\, a 24-hour giving event hosted by the Solano Community Foundation. This countywide day of giving will help to support our work in the community. Put it on your calendar and help us spread the word! \nFor more insight on the current funding environment\, check out this blog about a conversation SuSol’s founding Co-Executive Director Elena Karoulina had with capacity-building funder Magic Cabinet\, Solano Community Foundation\, and United Way Bay Area.
URL:https://sustainablesolano.org/event/online-live-solano-give-solano-day-of-giving/
LOCATION:Online
END:VEVENT
BEGIN:VEVENT
DTSTART;TZID=America/Los_Angeles:20251002T173000
DTEND;TZID=America/Los_Angeles:20251002T190000
DTSTAMP:20260422T151306
CREATED:20250910T003847Z
LAST-MODIFIED:20250910T003848Z
UID:32252-1759426200-1759431600@sustainablesolano.org
SUMMARY:(Online) All About Agritourism Educational Forum
DESCRIPTION:All About Agritourism\n5:30-7 pm\, Online (Zoom) \nCurious about agritourism? Just what is it\, what does it mean and what does it look like in different places? The Solano Local Food System Alliance is hosting its next educational forum online with panelists who can help to answer those questions. Learn how agritourism can support local farms and the local food system. Speakers will talk about what agritourism is\, what different forms of agritourism can look like\, and what has been done successfully elsewhere. Learn more and register here.
URL:https://sustainablesolano.org/event/online-all-about-agritourism-educational-forum/
LOCATION:Online/Zoom
CATEGORIES:Alliance,local food
END:VEVENT
BEGIN:VEVENT
DTSTART;TZID=America/Los_Angeles:20251008T180000
DTEND;TZID=America/Los_Angeles:20251008T190000
DTSTAMP:20260422T151306
CREATED:20250901T215453Z
LAST-MODIFIED:20251002T234803Z
UID:32236-1759946400-1759950000@sustainablesolano.org
SUMMARY:(Online) MEHKO 101 Workshop
DESCRIPTION:MEHKO 101 Workshop\n6 pm\, Online (Zoom) \nHave you ever dreamed of turning your home cooking into a business? Now you can in Solano County with a Microenterprise Home Kitchen Operation (MEHKO)! In this workshop\, you will gain a foundational understanding of MEHKOs including what they are\, how to start one\, their limitations\, how they differ from Cottage Food Operations and important resources available to help you get started. This webinar will cover the same content as the Sept. 25 webinar. Learn more and register for the webinar here.
URL:https://sustainablesolano.org/event/online-mehko-101-workshop-2/
LOCATION:Online/Zoom
CATEGORIES:cooking,MEHKO
END:VEVENT
BEGIN:VEVENT
DTSTART;TZID=America/Los_Angeles:20251008T180000
DTEND;TZID=America/Los_Angeles:20251008T193000
DTSTAMP:20260422T151306
CREATED:20250815T220439Z
LAST-MODIFIED:20250901T215543Z
UID:32183-1759946400-1759951800@sustainablesolano.org
SUMMARY:(Benicia) Building Healthy Soil & Cover Crops
DESCRIPTION:Building Healthy Soil & Cover Crops\n6-7:30 pm\, Heritage Presbyterian Church\, 1400 East 2nd St.\, Benicia \nOne of the many benefits of our climate is being able to garden year round. Fall/winter is a great time to garden. Instructor Lori Caldwell will go over some techniques on how to transition to your fall garden to prepare the soil for next season and what edible crops you can grow now. Topics will include soil health in raised beds\, sheet mulching for annual vegetables\, adding compost\, crop rotation and cover crops. Click here to register. \n**Free cover crop seeds will be provided while supplies last \nThis is a Solano Gardens program class that is funded by Republic Services
URL:https://sustainablesolano.org/event/benicia-building-healthy-soil-cover-crops/
LOCATION:Heritage Presbyterian Church\, Benicia
CATEGORIES:BCG,compost,garden,permaculture,resilience,soil
END:VEVENT
BEGIN:VEVENT
DTSTART;TZID=America/Los_Angeles:20251019T110000
DTEND;TZID=America/Los_Angeles:20251019T120000
DTSTAMP:20260422T151306
CREATED:20251002T235001Z
LAST-MODIFIED:20251002T235002Z
UID:32281-1760871600-1760875200@sustainablesolano.org
SUMMARY:(Vallejo) Filipino Fruits and Vegetables You Can Grow in Solano County
DESCRIPTION:Filipino Fruits and Vegetables You Can Grow in Solano County\n11 am\, Vallejo People’s Garden \nHave you ever wondered if the tropical flavors of the Philippines that you’ve tried and enjoyed can actually grow right here in Solano County? Join us for a fun and interactive class where we’ll explore the exciting possibilities of cultivating Filipino fruits and vegetables in our own backyards. The class will be presented by Elvie DeLeon and Vilma Aquino of Vallejo People’s Garden\, supported through SuSol’s Solano Gardens program. Register here!
URL:https://sustainablesolano.org/event/vallejo-filipino-fruits-and-vegetables-you-can-grow-in-solano-county/
LOCATION:Vallejo People’s Garden\, Mare Island
CATEGORIES:cooking,garden,local food,partner event
END:VEVENT
BEGIN:VEVENT
DTSTART;TZID=America/Los_Angeles:20251025T100000
DTEND;TZID=America/Los_Angeles:20251025T110000
DTSTAMP:20260422T151306
CREATED:20251002T235130Z
LAST-MODIFIED:20251002T235131Z
UID:32283-1761386400-1761390000@sustainablesolano.org
SUMMARY:(Fairfield) Winterize Your Garden
DESCRIPTION:Winterize Your Garden\n10-11 am\, City Church\, Fairfield \nCome join us at the City Church’s Peace of Eden Garden for a fun and informative event to get your garden ready for the winter season. All are welcome. The goal is to conserve nutrients and prepare the garden to thrive in the spring and summer months. Permaculture Designer Scott Dodson will be on site to tour the City Church garden and discuss how to winterize. Register here!
URL:https://sustainablesolano.org/event/fairfield-winterize-your-garden/
LOCATION:City Church of Fairfield
CATEGORIES:food forest,garden,soil
END:VEVENT
BEGIN:VEVENT
DTSTART;TZID=America/Los_Angeles:20251029T180000
DTEND;TZID=America/Los_Angeles:20251029T193000
DTSTAMP:20260422T151306
CREATED:20251002T235312Z
LAST-MODIFIED:20251017T165802Z
UID:32285-1761760800-1761766200@sustainablesolano.org
SUMMARY:(Benicia) Worm Your Way Into Composting
DESCRIPTION:Worm Your Way Into Composting\n6-7:30 pm\, Heritage Presbyterian Church\, Benicia \nWorm composting\, also known as vermicomposting\, is a simple way to reduce household garbage. By layering your food scraps with dry materials like scrap paper and cardboard and adding the magic ingredient – worms – you can convert it into compost. Attendees will receive free worm castings to take home for your garden!\nThis class is all about composting with Red Wiggler worms\, with an optional hands-on demonstration of how to apply worm castings a few days later. \nRegister here! \n*Suggested donation at the door: $10 \nNobody will be turned away due to lack of funds.
URL:https://sustainablesolano.org/event/benicia-worm-your-way-into-composting/
LOCATION:Heritage Presbyterian Church\, Benicia
CATEGORIES:compost,garden,permaculture,resilience,soil
END:VEVENT
END:VCALENDAR