BEGIN:VCALENDAR
VERSION:2.0
PRODID:-//Sustainable Solano - ECPv6.15.20//NONSGML v1.0//EN
CALSCALE:GREGORIAN
METHOD:PUBLISH
X-WR-CALNAME:Sustainable Solano
X-ORIGINAL-URL:https://sustainablesolano.org
X-WR-CALDESC:Events for Sustainable Solano
REFRESH-INTERVAL;VALUE=DURATION:PT1H
X-Robots-Tag:noindex
X-PUBLISHED-TTL:PT1H
BEGIN:VTIMEZONE
TZID:America/Los_Angeles
BEGIN:DAYLIGHT
TZOFFSETFROM:-0800
TZOFFSETTO:-0700
TZNAME:PDT
DTSTART:20250309T100000
END:DAYLIGHT
BEGIN:STANDARD
TZOFFSETFROM:-0700
TZOFFSETTO:-0800
TZNAME:PST
DTSTART:20251102T090000
END:STANDARD
BEGIN:DAYLIGHT
TZOFFSETFROM:-0800
TZOFFSETTO:-0700
TZNAME:PDT
DTSTART:20260308T100000
END:DAYLIGHT
BEGIN:STANDARD
TZOFFSETFROM:-0700
TZOFFSETTO:-0800
TZNAME:PST
DTSTART:20261101T090000
END:STANDARD
BEGIN:DAYLIGHT
TZOFFSETFROM:-0800
TZOFFSETTO:-0700
TZNAME:PDT
DTSTART:20270314T100000
END:DAYLIGHT
BEGIN:STANDARD
TZOFFSETFROM:-0700
TZOFFSETTO:-0800
TZNAME:PST
DTSTART:20271107T090000
END:STANDARD
END:VTIMEZONE
BEGIN:VEVENT
DTSTART;TZID=America/Los_Angeles:20260207T100000
DTEND;TZID=America/Los_Angeles:20260207T120000
DTSTAMP:20260422T085631
CREATED:20251218T233441Z
LAST-MODIFIED:20260112T220747Z
UID:32497-1770458400-1770465600@sustainablesolano.org
SUMMARY:(Benicia) Garden Tool Maintenace
DESCRIPTION:Garden Tool Maintenance\n10 am-12 pm\, Avant Community Garden \nGet ready to roll up your sleeves and dive into the world of garden tool maintenance! Learn how to keep your favorite gardening tools sharp\, clean\, and ready for action. Whether you’re a seasoned gardener or just starting out\, you’ll pick up handy tips and tricks to extend the life of your tools. Learn how to clean\, restore rusted tools\, and sharpen your tools. Bring your gloves and get hands-on experience with fellow plant lovers. Register here.
URL:https://sustainablesolano.org/event/benicia-garden-tool-maintenace/
LOCATION:Avant Community Garden\, Benicia
CATEGORIES:BCG,garden
END:VEVENT
BEGIN:VEVENT
DTSTART;TZID=America/Los_Angeles:20260211T180000
DTEND;TZID=America/Los_Angeles:20260211T190000
DTSTAMP:20260422T085631
CREATED:20260116T171343Z
LAST-MODIFIED:20260116T171345Z
UID:32602-1770832800-1770836400@sustainablesolano.org
SUMMARY:(Benicia) Garden Planning & Climate Basics
DESCRIPTION:Garden Planning & Climate Basics\n6-7 pm\, Heritage Presbyterian Church\, Benicia \nBegin to plan for your garden now! Winter is a perfect time to begin planning your garden. Learn to navigate Solano County’s climate\, ensuring you select the most resilient crops for USDA Zone 9b. We will dive into soil health and composting\, teaching you how to revitalize your earth with nutrient-rich organic matter to prepare for planting. Finally\, we will discuss what crops to select to ensure a productive and sustainable harvest. This is the first in a series of classes offered by Master Gardener and SuSol Board President Maggie Kolk\, with a different gardening topic each month. Join us for one or all of them! Register here. \nUpcoming classes: \n\nMarch 18: Seed Starting & Transplanting\nApril 8: Companion Planting & Garden Design\nMay: Pest & Disease Management (date TBD)\nJune  17: Harvesting & Garden Maintenance
URL:https://sustainablesolano.org/event/benicia-garden-planning-climate-basics/
LOCATION:Heritage Presbyterian Church\, Benicia
CATEGORIES:BCG,garden
END:VEVENT
BEGIN:VEVENT
DTSTART;TZID=America/Los_Angeles:20260221T100000
DTEND;TZID=America/Los_Angeles:20260221T150000
DTSTAMP:20260422T085631
CREATED:20260128T204312Z
LAST-MODIFIED:20260128T204314Z
UID:32624-1771668000-1771686000@sustainablesolano.org
SUMMARY:(Fairfield) Community Tree Planting Day
DESCRIPTION:Community Tree Planting Day\n10 am-3 pm\, City Church\, Fairfield \nJoin City Church\, Sustainable Solano and the Fairfield Youth Air Protectors to help plant trees\, improve air quality and expand Fairfield’s green spaces. We will be planting trees at City Church to beautify their community garden\, purify polluted air\, create shade\, and improve the walkability of the street. Refreshments will be provided. Register here.
URL:https://sustainablesolano.org/event/fairfield-community-tree-planting-day/
LOCATION:City Church of Fairfield
CATEGORIES:air quality,garden,trees,youth
END:VEVENT
BEGIN:VEVENT
DTSTART;TZID=America/Los_Angeles:20260227T180000
DTEND;TZID=America/Los_Angeles:20260227T200000
DTSTAMP:20260422T085631
CREATED:20260109T014748Z
LAST-MODIFIED:20260109T014748Z
UID:32579-1772215200-1772222400@sustainablesolano.org
SUMMARY:(Vallejo) Teen Cooking Class
DESCRIPTION:Teen Cooking Class\n6-8 pm\, Vallejo Community Center \nJoin Chef Stephanie Oelsligle Jordan\, SuSol’s Local Food program manager\, for a Moroccan dinner cooking class for teens ages 13-17. Chef Steph will teach hands-on cooking skills\, all materials are provided and the class ends with a shared meal! This is the one of three stand-alone cooking classes this spring — or interested youth can sign up for a spring break cooking camp! The teen cooking class is offered through the Greater Vallejo Recreation District (GVRD)\, and costs $50 for residents and $60 for non-residents. Learn more and register here.
URL:https://sustainablesolano.org/event/vallejo-teen-cooking-class-3/
LOCATION:Vallejo Community Center
CATEGORIES:cooking,youth
END:VEVENT
BEGIN:VEVENT
DTSTART;TZID=America/Los_Angeles:20260228T093000
DTEND;TZID=America/Los_Angeles:20260228T130000
DTSTAMP:20260422T085631
CREATED:20260122T234908Z
LAST-MODIFIED:20260122T234912Z
UID:32612-1772271000-1772283600@sustainablesolano.org
SUMMARY:(Suisun City) Sea Level Rise Walking Tour
DESCRIPTION:Suisun City Sea Level Rise Walking Tour\n11 am-12 pm\, Harbor Plaza\, Suisun City \nJoin us for a fun\, free\, and interactive walking tour to explore the Suisun City waterfront. Before beginning the tour\, we’ll be tabling at Harbor Plaza in Downtown Suisun to share how rising seas and stronger storms are shaping Suisun City’s shoreline. Stop by and participate in our community mapping activity to be entered to win a $50 gift card! We’ll have coffee and snacks to share while we hear about what you love most about Suisun and Fairfield and where flood resilience is most critical. All participants on the walking tour will receive a $10 gift card upon completing a short survey following the tour. Learn more and register here.
URL:https://sustainablesolano.org/event/suisun-city-sea-level-rise-walking-tour/
LOCATION:Harbor Plaza
CATEGORIES:flood walk,resilience
END:VEVENT
BEGIN:VEVENT
DTSTART;TZID=America/Los_Angeles:20260228T100000
DTEND;TZID=America/Los_Angeles:20260228T120000
DTSTAMP:20260422T085631
CREATED:20260130T174641Z
LAST-MODIFIED:20260130T174643Z
UID:32646-1772272800-1772280000@sustainablesolano.org
SUMMARY:Benicia Community Gardens Annual Meeting
DESCRIPTION:Benicia Community Gardens Annual Meeting\n10 am-12 pm\, Heritage Presbyterian Church\, Benicia \nThis is the annual meeting for Avant and Swenson garden members to discuss garden changes\, volunteer leadership needs\, budget\, logistics and to sign the new 2026-2027 agreement. Bring a cup of coffee or tea and a snack to share. We are looking for people to take an active role in volunteer leadership so we can keep these gardens thriving. Register here.\nNot a member but interested in joining? Contact Nicole Newell at nicole@sustainablesolano.org
URL:https://sustainablesolano.org/event/benicia-community-gardens-annual-meeting/
LOCATION:Heritage Presbyterian Church\, Benicia
CATEGORIES:BCG,garden
END:VEVENT
BEGIN:VEVENT
DTSTART;TZID=America/Los_Angeles:20260228T150000
DTEND;TZID=America/Los_Angeles:20260228T160000
DTSTAMP:20260422T085631
CREATED:20260212T002359Z
LAST-MODIFIED:20260212T002359Z
UID:32670-1772290800-1772294400@sustainablesolano.org
SUMMARY:(Benicia) Nature's Best Hope: Planting Native to Support Life
DESCRIPTION:Do you think about the environment\, plants\, and wildlife that our world depends on? Come hear how we all can create beautiful spaces of biodiversity by forming local thriving ecosystems through the love of native plants. Whether you are a nature lover\, student\, gardener\, homeowner\, garden habitat lover\, or community gardener\, come get inspired through this presentation\, video and chat! \nThe Native Plant Movement is transforming landscapes across the nation by promoting the use of plants that are naturally adapted to our regions. Hear what Doug Tallamy\, author of the book “Nature’s Best Hope” has to say in his 20-minute video about how you too can participate in creating spaces that support native plants and the wildlife that depends on them. \nEvent is hosted by Johanna Derkacz\, a member of the Willis Linn Jepson local chapter of California Native Plant Society\, CNPS. In the Doña Benicia Room.
URL:https://sustainablesolano.org/event/benicia-natures-best-hope-planting-native-to-support-life/
LOCATION:Benicia Library
CATEGORIES:partner event
END:VEVENT
END:VCALENDAR